BEGIN:VCALENDAR
VERSION:2.0
PRODID:-//ChamberMaster//Event Calendar 2.0//EN
METHOD:PUBLISH
X-PUBLISHED-TTL:P3D
REFRESH-INTERVAL:P3D
CALSCALE:GREGORIAN
BEGIN:VEVENT
DTSTART:20180922T150000Z
DTEND:20180922T180000Z
X-MICROSOFT-CDO-ALLDAYEVENT:FALSE
SUMMARY:11th Annual Ashley Garrett Memorial Children’s Art Festival
DESCRIPTION:At the family event organized by the Auxvasse Creative Art Program\, kids enjoy free arts and crafts activities\, live music by Tanner Bryce Jones\, food\, face painting and other activities. There is no charge to attend the event. The first 100 kids at the event will receive a free back sack. Each child will also receive a free hot dog lunch\, ice cream\, and a free book\, while supplies last\, donated by Scholastic.
X-ALT-DESC;FMTTYPE=text/html:At the family event organized by the Auxvasse Creative Art Program\, kids enjoy free arts and crafts activities\, live music by Tanner Bryce Jones\, food\, face painting and other activities. There is no charge to attend the event. The first 100 kids at the event will receive a free back sack. Each child will also receive a free hot dog lunch\, ice cream\, and a free book\, while supplies last\, donated by Scholastic.
LOCATION:Domann Park\, 305 S. Elm in Auxvasse
UID:e.1836.10380
SEQUENCE:3
DTSTAMP:20260426T005529Z
URL:https://business.callawaychamber.net/events/details/11th-annual-ashley-garrett-memorial-children-s-art-festival-10380
END:VEVENT

END:VCALENDAR
