BEGIN:VCALENDAR
VERSION:2.0
PRODID:-//ChamberMaster//Event Calendar 2.0//EN
METHOD:PUBLISH
X-PUBLISHED-TTL:P3D
REFRESH-INTERVAL:P3D
CALSCALE:GREGORIAN
BEGIN:VEVENT
DTSTART;VALUE=DATE:20170616
DTEND;VALUE=DATE:20170617
TRANSP:TRANSPARENT
X-MICROSOFT-CDO-ALLDAYEVENT:TRUE
SUMMARY:2017 Golf Tournament
DESCRIPTION:This event is a networking opportunity with Chamber members and community leaders.  This tournament will give you the opportunity to spotlight your business in a relaxed setting in front of Callaway County decision makers.
X-ALT-DESC;FMTTYPE=text/html:This event is a networking opportunity with Chamber members and community leaders. &nbsp\;This tournament&nbsp\;will give you the opportunity to spotlight your business in a relaxed setting in front of Callaway County decision makers. &nbsp\;
LOCATION:Tanglewood Golf Course
UID:e.1836.10169
SEQUENCE:3
DTSTAMP:20260426T004908Z
URL:https://business.callawaychamber.net/events/details/2017-golf-tournament-10169
END:VEVENT

END:VCALENDAR
