BEGIN:VCALENDAR
VERSION:2.0
PRODID:-//ChamberMaster//Event Calendar 2.0//EN
METHOD:PUBLISH
X-PUBLISHED-TTL:P3D
REFRESH-INTERVAL:P3D
CALSCALE:GREGORIAN
BEGIN:VEVENT
DTSTART:20170518T220000Z
DTEND:20170519T000000Z
X-MICROSOFT-CDO-ALLDAYEVENT:FALSE
SUMMARY:2017 Leadership Callaway County Commencement
DESCRIPTION:2017 Leadership Callaway Commencement
X-ALT-DESC;FMTTYPE=text/html:2017 Leadership Callaway Commencement
LOCATION:Fulton Country Club
UID:e.1836.10202
SEQUENCE:3
DTSTAMP:20260425T235707Z
URL:https://business.callawaychamber.net/events/details/2017-leadership-callaway-county-commencement-10202
END:VEVENT

END:VCALENDAR
