BEGIN:VCALENDAR
VERSION:2.0
PRODID:-//ChamberMaster//Event Calendar 2.0//EN
METHOD:PUBLISH
X-PUBLISHED-TTL:P3D
REFRESH-INTERVAL:P3D
CALSCALE:GREGORIAN
BEGIN:VEVENT
DTSTART;VALUE=DATE:20171006
DTEND;VALUE=DATE:20171007
TRANSP:TRANSPARENT
X-MICROSOFT-CDO-ALLDAYEVENT:TRUE
SUMMARY:2017 National Manufacturing Day
DESCRIPTION:MFG DAY addresses common misperceptions about manufacturing by giving manufacturers an opportunity to open their doors and show\, in a coordinated effort\, what manufacturing is   and what it isn't. By working together during and after MFG DAY\, manufacturers will begin to address the skilled labor shortage they face\, connect with future generations\, take charge of the public image of manufacturing\, and ensure the ongoing prosperity of the whole industry.\n\nSupported by a group of industry sponsors and co-producers\, MFG DAY is designed to amplify the voice of individual manufacturers and coordinate a collective chorus of manufacturers with common concerns and challenges. The rallying point for a growing mass movement\, MFG DAY empowers manufacturers to come together to address their collective challenges so they can help their communities and future generations thrive.
X-ALT-DESC;FMTTYPE=text/html:<p style="margin: 0px 0px 20px\; font-size: 15px\; line-height: 1.5em\; color: rgb(77\, 77\, 77)\; font-family: Lato\, sans-serif\; background-color: rgb(255\, 255\, 255)\;">MFG DAY addresses common misperceptions about manufacturing by giving manufacturers an opportunity to open their doors and show\, in a coordinated effort\, what manufacturing is &mdash\; and what it isn&rsquo\;t. By working together during and after MFG DAY\, manufacturers will begin to address the skilled labor shortage they face\, connect with future generations\, take charge of the public image of manufacturing\, and ensure the ongoing prosperity of the whole industry.</p>\n\n<p style="margin: 0px 0px 20px\; font-size: 15px\; line-height: 1.5em\; color: rgb(77\, 77\, 77)\; font-family: Lato\, sans-serif\; background-color: rgb(255\, 255\, 255)\;">Supported by a group of industry sponsors and co-producers\, MFG DAY is designed to amplify the voice of individual manufacturers and coordinate a collective chorus of manufacturers with common concerns and challenges. The rallying point for a growing mass movement\, MFG DAY empowers manufacturers to come together to address their collective challenges so they can help their communities and future generations thrive.</p>\n
LOCATION:
UID:e.1836.10180
SEQUENCE:3
DTSTAMP:20260423T060301Z
URL:https://business.callawaychamber.net/events/details/2017-national-manufacturing-day-10180
END:VEVENT

END:VCALENDAR
