BEGIN:VCALENDAR
VERSION:2.0
PRODID:-//ChamberMaster//Event Calendar 2.0//EN
METHOD:PUBLISH
X-PUBLISHED-TTL:P3D
REFRESH-INTERVAL:P3D
CALSCALE:GREGORIAN
BEGIN:VEVENT
DTSTART:20171106T160000Z
DTEND:20171106T220000Z
X-MICROSOFT-CDO-ALLDAYEVENT:FALSE
SUMMARY:2017 Pitch Competition
DESCRIPTION:2017 Show-Me Pitch Competition
X-ALT-DESC;FMTTYPE=text/html:2017 Show-Me Pitch Competition
LOCATION:Callaway Electric Cooperative
UID:e.1836.10200
SEQUENCE:3
DTSTAMP:20260421T121422Z
URL:https://business.callawaychamber.net/events/details/2017-pitch-competition-10200
END:VEVENT

END:VCALENDAR
