BEGIN:VCALENDAR
VERSION:2.0
PRODID:-//ChamberMaster//Event Calendar 2.0//EN
METHOD:PUBLISH
X-PUBLISHED-TTL:P3D
REFRESH-INTERVAL:P3D
CALSCALE:GREGORIAN
BEGIN:VEVENT
DTSTART:20181016T223000Z
DTEND:20181017T010000Z
X-MICROSOFT-CDO-ALLDAYEVENT:FALSE
SUMMARY:2018 Career & College Fair
DESCRIPTION:This is an opportunity for businesses in Callaway County to reach out to High School students and their parents to showcase the employment opportunities in Callaway County.  Participation is FREE and this event is open to the public.
X-ALT-DESC;FMTTYPE=text/html:This is an opportunity for businesses in Callaway County to reach out to High School students and their parents to showcase the employment opportunities in Callaway County.&nbsp\; Participation is FREE and this event is open to the public.
LOCATION:Fulton High School 2 Hornet Drive Fulton MO 65251
UID:e.1836.10329
SEQUENCE:3
DTSTAMP:20260426T005136Z
URL:https://business.callawaychamber.net/events/details/2018-career-college-fair-10329
END:VEVENT

END:VCALENDAR
