BEGIN:VCALENDAR
VERSION:2.0
PRODID:-//ChamberMaster//Event Calendar 2.0//EN
METHOD:PUBLISH
X-PUBLISHED-TTL:P3D
REFRESH-INTERVAL:P3D
CALSCALE:GREGORIAN
BEGIN:VEVENT
DTSTART:20181005T120000Z
DTEND:20181005T200000Z
X-MICROSOFT-CDO-ALLDAYEVENT:FALSE
SUMMARY:2018 National Manufacturing Day: Multiple Activites
DESCRIPTION:The Callaway Chamber of Commerce will coordinate Manufacturing Week activities in October 2018 to celebrate the many manufacturers in our county.  These events are in conjunction with National Manufacturing Day (mfgday.com) events and activities. This is an excellent way to showcase your business to the communities and help to bring recognition to our local manufacturers.
X-ALT-DESC;FMTTYPE=text/html:The Callaway Chamber of Commerce will coordinate Manufacturing Week activities in October 2018 to celebrate the many manufacturers in our county.&nbsp\; These events are in conjunction with National Manufacturing Day (mfgday.com) events and activities. This is an excellent way to showcase your business to the communities and help to bring recognition to our local manufacturers.&nbsp\;
LOCATION:TBD
UID:e.1836.10235
SEQUENCE:3
DTSTAMP:20260426T005136Z
URL:https://business.callawaychamber.net/events/details/2018-national-manufacturing-day-multiple-activites-10235
END:VEVENT

END:VCALENDAR
