BEGIN:VCALENDAR
VERSION:2.0
PRODID:-//ChamberMaster//Event Calendar 2.0//EN
METHOD:PUBLISH
X-PUBLISHED-TTL:P3D
REFRESH-INTERVAL:P3D
CALSCALE:GREGORIAN
BEGIN:VEVENT
DTSTART:20180710T220000Z
DTEND:20180710T233000Z
X-MICROSOFT-CDO-ALLDAYEVENT:FALSE
SUMMARY:2018 New Member Reception
DESCRIPTION:New Member Reception
X-ALT-DESC;FMTTYPE=text/html:New Member Reception
LOCATION:Callaway Chamber of Commerce 510 Market Street Fulton MO 65251
UID:e.1836.10327
SEQUENCE:3
DTSTAMP:20260426T041613Z
URL:https://business.callawaychamber.net/events/details/2018-new-member-reception-10327
END:VEVENT

END:VCALENDAR
