BEGIN:VCALENDAR
VERSION:2.0
PRODID:-//ChamberMaster//Event Calendar 2.0//EN
METHOD:PUBLISH
X-PUBLISHED-TTL:P3D
REFRESH-INTERVAL:P3D
CALSCALE:GREGORIAN
BEGIN:VEVENT
DTSTART:20181105T160000Z
DTEND:20181105T220000Z
X-MICROSOFT-CDO-ALLDAYEVENT:FALSE
SUMMARY:2018 Pitch Competition
DESCRIPTION:2018 Show-Me Pitch Competition
X-ALT-DESC;FMTTYPE=text/html:2018 Show-Me Pitch Competition
LOCATION:Callaway Chamber of Commerce 510 Market Street Fulton\, MO 65251
UID:e.1836.10233
SEQUENCE:3
DTSTAMP:20260425T211150Z
URL:https://business.callawaychamber.net/events/details/2018-pitch-competition-10233
END:VEVENT

END:VCALENDAR
