BEGIN:VCALENDAR
VERSION:2.0
PRODID:-//ChamberMaster//Event Calendar 2.0//EN
METHOD:PUBLISH
X-PUBLISHED-TTL:P3D
REFRESH-INTERVAL:P3D
CALSCALE:GREGORIAN
BEGIN:VEVENT
DTSTART:20180827T230000Z
DTEND:20180828T003000Z
X-MICROSOFT-CDO-ALLDAYEVENT:FALSE
SUMMARY:2018 Prep for Pitch Class
DESCRIPTION:Prep for Pitch Class 1\n\nConducting Market Research presented by Jenny O'Donley
X-ALT-DESC;FMTTYPE=text/html:Prep for Pitch Class 1<br />\nConducting Market Research presented by Jenny O&#39\;Donley
LOCATION:Callaway Chamber of Commerce 510 Market St Fulton MO 65251
UID:e.1836.10318
SEQUENCE:3
DTSTAMP:20260426T024046Z
URL:https://business.callawaychamber.net/events/details/2018-prep-for-pitch-class-10318
END:VEVENT

END:VCALENDAR
