BEGIN:VCALENDAR
VERSION:2.0
PRODID:-//ChamberMaster//Event Calendar 2.0//EN
METHOD:PUBLISH
X-PUBLISHED-TTL:P3D
REFRESH-INTERVAL:P3D
CALSCALE:GREGORIAN
BEGIN:VEVENT
DTSTART:20180828T230000Z
DTEND:20180829T003000Z
X-MICROSOFT-CDO-ALLDAYEVENT:FALSE
SUMMARY:2018 Prep for Pitch Class
DESCRIPTION:Prep For Pitch Class \n\nWriting A Business Plan\n\nPresented by Missouri Women's Business Center
X-ALT-DESC;FMTTYPE=text/html:Prep For Pitch Class&nbsp\;<br />\nWriting A Business Plan<br />\nPresented by Missouri Women&#39\;s Business Center&nbsp\;&nbsp\;&nbsp\;&nbsp\;
LOCATION:Callaway Chamber of Commerce 510 Market St Fulton MO 65251
UID:e.1836.10319
SEQUENCE:3
DTSTAMP:20260426T023058Z
URL:https://business.callawaychamber.net/events/details/2018-prep-for-pitch-class-10319
END:VEVENT

END:VCALENDAR
