BEGIN:VCALENDAR
VERSION:2.0
PRODID:-//ChamberMaster//Event Calendar 2.0//EN
METHOD:PUBLISH
X-PUBLISHED-TTL:P3D
REFRESH-INTERVAL:P3D
CALSCALE:GREGORIAN
BEGIN:VEVENT
DTSTART:20180830T230000Z
DTEND:20180831T003000Z
X-MICROSOFT-CDO-ALLDAYEVENT:FALSE
SUMMARY:2018 Prep for Pitch Class
DESCRIPTION:Prep for Pitch Class\n\nCalculating Your Start Up Costs\n\nPresented by Diane Buchli
X-ALT-DESC;FMTTYPE=text/html:Prep for Pitch Class<br />\nCalculating Your Start Up Costs<br />\nPresented by Diane Buchli&nbsp\;&nbsp\;&nbsp\;&nbsp\;
LOCATION:Callaway Chamber of Commerce 510 Market St Fulton MO 65251
UID:e.1836.10320
SEQUENCE:3
DTSTAMP:20260426T023046Z
URL:https://business.callawaychamber.net/events/details/2018-prep-for-pitch-class-10320
END:VEVENT

END:VCALENDAR
