BEGIN:VCALENDAR
VERSION:2.0
PRODID:-//ChamberMaster//Event Calendar 2.0//EN
METHOD:PUBLISH
X-PUBLISHED-TTL:P3D
REFRESH-INTERVAL:P3D
CALSCALE:GREGORIAN
BEGIN:VEVENT
DTSTART:20180911T230000Z
DTEND:20180912T003000Z
X-MICROSOFT-CDO-ALLDAYEVENT:FALSE
SUMMARY:2018 Prep for Pitch Class
DESCRIPTION:Prep for Pitch Class\n\nPicking Your Business Location\n\nPresented by Bruce Hackmann
X-ALT-DESC;FMTTYPE=text/html:Prep for Pitch Class<br />\nPicking Your Business Location<br />\nPresented by Bruce Hackmann
LOCATION:Callaway Chamber of Commerce 510 Market St Fulton MO 65251
UID:e.1836.10322
SEQUENCE:3
DTSTAMP:20260426T004825Z
URL:https://business.callawaychamber.net/events/details/2018-prep-for-pitch-class-10322
END:VEVENT

END:VCALENDAR
