BEGIN:VCALENDAR
VERSION:2.0
PRODID:-//ChamberMaster//Event Calendar 2.0//EN
METHOD:PUBLISH
X-PUBLISHED-TTL:P3D
REFRESH-INTERVAL:P3D
CALSCALE:GREGORIAN
BEGIN:VEVENT
DTSTART:20180806T133000Z
DTEND:20180806T153000Z
X-MICROSOFT-CDO-ALLDAYEVENT:FALSE
SUMMARY:2018 Teachers Appreciation Breakfast
DESCRIPTION:The Inaugural Teachers Appreciation Breakfast will be held in Callaway County on Monday\, August 6th to recognize the teachers in our community. \n\nGuest Speaker: Gene Wilhoit\, Executive Director of the National Center for Innovation in Education
X-ALT-DESC;FMTTYPE=text/html:The Inaugural Teachers Appreciation Breakfast will be held in Callaway County on Monday\, August 6th to recognize the teachers in our community.&nbsp\;<br />\nGuest Speaker: Gene Wilhoit\, Executive Director of the National Center for Innovation in Education
LOCATION:54 Country 400 Gaylord Drive Fulton MO 65251
UID:e.1836.10282
SEQUENCE:3
DTSTAMP:20260426T023312Z
URL:https://business.callawaychamber.net/events/details/2018-teachers-appreciation-breakfast-10282
END:VEVENT

END:VCALENDAR
