BEGIN:VCALENDAR
VERSION:2.0
PRODID:-//ChamberMaster//Event Calendar 2.0//EN
METHOD:PUBLISH
X-PUBLISHED-TTL:P3D
REFRESH-INTERVAL:P3D
CALSCALE:GREGORIAN
BEGIN:VEVENT
DTSTART:20180920T220000Z
DTEND:20180921T013000Z
X-MICROSOFT-CDO-ALLDAYEVENT:FALSE
SUMMARY:2018 Town and Country Dinner
DESCRIPTION:This popular event is designed to increase the awareness and interaction between two of Callaway County's most prominent employment sectors - industry and agriculture.  Alternating businesses from the city and county take turns serving as hosts of this annual event.
X-ALT-DESC;FMTTYPE=text/html:<span style="color: rgb(51\, 51\, 51)\; font-family: sans-serif\, Arial\, Verdana\, &quot\;Trebuchet MS&quot\;\; font-size: 13px\; background-color: rgb(255\, 255\, 255)\;">This popular event is designed to increase the awareness and interaction between two of Callaway County&#39\;s most prominent employment sectors - industry and agriculture.&nbsp\; Alternating businesses from the city and county take turns serving as hosts of this annual event.&nbsp\;</span>
LOCATION:Wise Bros. 3361 Old US 40 Kingdom City\, MO 65262
UID:e.1836.10325
SEQUENCE:3
DTSTAMP:20260426T005137Z
URL:https://business.callawaychamber.net/events/details/2018-town-and-country-dinner-10325
END:VEVENT

END:VCALENDAR
