BEGIN:VCALENDAR
VERSION:2.0
PRODID:-//ChamberMaster//Event Calendar 2.0//EN
METHOD:PUBLISH
X-PUBLISHED-TTL:P3D
REFRESH-INTERVAL:P3D
CALSCALE:GREGORIAN
BEGIN:VEVENT
DTSTART:20190124T230000Z
DTEND:20190125T020000Z
X-MICROSOFT-CDO-ALLDAYEVENT:FALSE
SUMMARY:2019 Annual Banquet
DESCRIPTION:2019 Annual Banquet
X-ALT-DESC;FMTTYPE=text/html:2019 Annual Banquet&nbsp\;&nbsp\;&nbsp\;&nbsp\;
LOCATION:54 Country
UID:e.1836.10514
SEQUENCE:3
DTSTAMP:20260425T173929Z
URL:https://business.callawaychamber.net/events/details/2019-annual-banquet-10514
END:VEVENT

END:VCALENDAR
