BEGIN:VCALENDAR
VERSION:2.0
PRODID:-//ChamberMaster//Event Calendar 2.0//EN
METHOD:PUBLISH
X-PUBLISHED-TTL:P3D
REFRESH-INTERVAL:P3D
CALSCALE:GREGORIAN
BEGIN:VEVENT
DTSTART:20191203T230000Z
DTEND:20191204T010000Z
X-MICROSOFT-CDO-ALLDAYEVENT:FALSE
SUMMARY:2019 Business After Hours
DESCRIPTION:The Callaway Chamber of Commerce Business After Hours event offers Chamber members an opportunity to network with other chamber members on a regular basis. This is a simple and effective way to promote your business.
X-ALT-DESC;FMTTYPE=text/html:<span style="color: rgb(51\, 51\, 51)\; font-family: sans-serif\, Arial\, Verdana\, &quot\;Trebuchet MS&quot\;\; font-size: 13px\; background-color: rgb(255\, 255\, 255)\;">The Callaway Chamber of Commerce Business After Hours event offers Chamber members an opportunity to network with other chamber members on a regular basis. This is a simple and effective way to promote your business.</span>
LOCATION:Hosted by Ameren Missouri Location: Fulton Country Club
UID:e.1836.10527
SEQUENCE:3
DTSTAMP:20260424T235816Z
URL:https://business.callawaychamber.net/events/details/2019-business-after-hours-10527
END:VEVENT

END:VCALENDAR
