BEGIN:VCALENDAR
VERSION:2.0
PRODID:-//ChamberMaster//Event Calendar 2.0//EN
METHOD:PUBLISH
X-PUBLISHED-TTL:P3D
REFRESH-INTERVAL:P3D
CALSCALE:GREGORIAN
BEGIN:VEVENT
DTSTART:20190411T210000Z
DTEND:20190412T000000Z
X-MICROSOFT-CDO-ALLDAYEVENT:FALSE
SUMMARY:2019 Business Expo
DESCRIPTION:Business Expo
X-ALT-DESC;FMTTYPE=text/html:Business Expo
LOCATION:Callaway Senior Center 531 Commons Drive Fulton MO 65251
UID:e.1836.10540
SEQUENCE:3
DTSTAMP:20260425T123352Z
URL:https://business.callawaychamber.net/events/details/2019-business-expo-10540
END:VEVENT

END:VCALENDAR
