BEGIN:VCALENDAR
VERSION:2.0
PRODID:-//ChamberMaster//Event Calendar 2.0//EN
METHOD:PUBLISH
X-PUBLISHED-TTL:P3D
REFRESH-INTERVAL:P3D
CALSCALE:GREGORIAN
BEGIN:VEVENT
DTSTART:20180809T223000Z
DTEND:20180809T233000Z
X-MICROSOFT-CDO-ALLDAYEVENT:FALSE
SUMMARY:2019 Leadership Callaway Class Reveal
DESCRIPTION:2019 Leadership Callaway Class Reveal
X-ALT-DESC;FMTTYPE=text/html:2019 Leadership Callaway Class Reveal&nbsp\;&nbsp\;&nbsp\;&nbsp\;
LOCATION:Callaway Chamber of Commerce 510 Market Street Fulton MO 65251
UID:e.1836.10337
SEQUENCE:3
DTSTAMP:20260426T023404Z
URL:https://business.callawaychamber.net/events/details/2019-leadership-callaway-class-reveal-10337
END:VEVENT

END:VCALENDAR
