BEGIN:VCALENDAR
VERSION:2.0
PRODID:-//ChamberMaster//Event Calendar 2.0//EN
METHOD:PUBLISH
X-PUBLISHED-TTL:P3D
REFRESH-INTERVAL:P3D
CALSCALE:GREGORIAN
BEGIN:VEVENT
DTSTART;VALUE=DATE:20200724
DTEND;VALUE=DATE:20200725
TRANSP:TRANSPARENT
X-MICROSOFT-CDO-ALLDAYEVENT:TRUE
SUMMARY:2020 Golf Tournament
DESCRIPTION:2020 Golf Tournament
X-ALT-DESC;FMTTYPE=text/html:2020 Golf Tournament
LOCATION:Tanglewood
UID:e.1836.10688
SEQUENCE:3
DTSTAMP:20260424T145825Z
URL:https://business.callawaychamber.net/events/details/2020-golf-tournament-10688
END:VEVENT

END:VCALENDAR
