BEGIN:VCALENDAR
VERSION:2.0
PRODID:-//ChamberMaster//Event Calendar 2.0//EN
METHOD:PUBLISH
X-PUBLISHED-TTL:P3D
REFRESH-INTERVAL:P3D
CALSCALE:GREGORIAN
BEGIN:VEVENT
DTSTART:20200715T130000Z
DTEND:20200715T140000Z
X-MICROSOFT-CDO-ALLDAYEVENT:FALSE
SUMMARY:2020 July Business Breakfast
DESCRIPTION:The Callaway Chamber of Commerce Business Breakfast event offers Chamber members an opportunity to network with other chamber members on a regular basis. This is a simple and effective way to promote your business.\n\n\n\nYou MUST RSVP to attend and space is limited to the first 40 people to RSVP.\n\nYou MUST RSVP to attend and the RSVP is limited to the FIRST 40 people.
X-ALT-DESC;FMTTYPE=text/html:<span style="color: rgb(51\, 51\, 51)\; font-family: sans-serif\, Arial\, Verdana\, &quot\;Trebuchet MS&quot\;\; font-size: 13px\; background-color: rgb(255\, 255\, 255)\;">The Callaway Chamber of Commerce Business Breakfast event offers Chamber members an opportunity to network with other chamber members on a regular basis. This is a simple and effective way to promote your business.<br />\n<br />\nYou MUST RSVP to attend and space is limited to the first 40 people to RSVP.<br />\nYou MUST RSVP to attend and the RSVP is limited to the FIRST 40 people.&nbsp\;</span>
LOCATION:Public Administrator & Maupin Funeral Home @ the Public Administrators new office (old Par Five building)
UID:e.1836.10636
SEQUENCE:3
DTSTAMP:20260424T132729Z
URL:https://business.callawaychamber.net/events/details/2020-july-business-breakfast-10636
END:VEVENT

END:VCALENDAR
