BEGIN:VCALENDAR
VERSION:2.0
PRODID:-//ChamberMaster//Event Calendar 2.0//EN
METHOD:PUBLISH
X-PUBLISHED-TTL:P3D
REFRESH-INTERVAL:P3D
CALSCALE:GREGORIAN
BEGIN:VEVENT
DTSTART:20200219T200000Z
DTEND:20200219T220000Z
X-MICROSOFT-CDO-ALLDAYEVENT:FALSE
SUMMARY:2020 MOAmp Launch Party
DESCRIPTION:MOAmp Launch Party\n\nCallaway Chamber of Commerce and State Tech
X-ALT-DESC;FMTTYPE=text/html:MOAmp Launch Party<br />\nCallaway Chamber of Commerce and State Tech
LOCATION:Callaway Chamber of Commerce 510 Market Street
UID:e.1836.10663
SEQUENCE:3
DTSTAMP:20260424T210613Z
URL:https://business.callawaychamber.net/events/details/2020-moamp-launch-party-10663
END:VEVENT

END:VCALENDAR
