BEGIN:VCALENDAR
VERSION:2.0
PRODID:-//ChamberMaster//Event Calendar 2.0//EN
METHOD:PUBLISH
X-PUBLISHED-TTL:P3D
REFRESH-INTERVAL:P3D
CALSCALE:GREGORIAN
BEGIN:VEVENT
DTSTART;VALUE=DATE:20201102
DTEND;VALUE=DATE:20201103
TRANSP:TRANSPARENT
X-MICROSOFT-CDO-ALLDAYEVENT:TRUE
SUMMARY:2020 Show-Me Innovation Pitch Competition
DESCRIPTION:5th Annual Show-Me Innovation Pitch Competition \n\nTo participate in the competition please contact Shane Moriarity at businessrelations@callawaychamber.net
X-ALT-DESC;FMTTYPE=text/html:5th Annual Show-Me Innovation Pitch Competition&nbsp\;<br />\nTo participate in the competition please contact Shane Moriarity at businessrelations@callawaychamber.net
LOCATION:Callaway Chamber of Commerce
UID:e.1836.10715
SEQUENCE:3
DTSTAMP:20260424T075746Z
URL:https://business.callawaychamber.net/events/details/2020-show-me-innovation-pitch-competition-10715
END:VEVENT

END:VCALENDAR
