BEGIN:VCALENDAR
VERSION:2.0
PRODID:-//ChamberMaster//Event Calendar 2.0//EN
METHOD:PUBLISH
X-PUBLISHED-TTL:P3D
REFRESH-INTERVAL:P3D
CALSCALE:GREGORIAN
BEGIN:VEVENT
DTSTART:20200424T223000Z
DTEND:20200425T020000Z
X-MICROSOFT-CDO-ALLDAYEVENT:FALSE
SUMMARY:2020 YMCA 22nd Annual Auction
DESCRIPTION:Silent & Live Auction to benefit the YMCA's Outreach Financial Assistance Program. More details to come.
X-ALT-DESC;FMTTYPE=text/html:Silent &amp\; Live Auction to benefit the YMCA&#39\;s Outreach Financial Assistance Program. More details to come.
LOCATION:YMCA of Callaway County
UID:e.1836.10660
SEQUENCE:3
DTSTAMP:20260424T182116Z
URL:https://business.callawaychamber.net/events/details/2020-ymca-22nd-annual-auction-10660
END:VEVENT

END:VCALENDAR
