BEGIN:VCALENDAR
VERSION:2.0
PRODID:-//ChamberMaster//Event Calendar 2.0//EN
METHOD:PUBLISH
X-PUBLISHED-TTL:P3D
REFRESH-INTERVAL:P3D
CALSCALE:GREGORIAN
BEGIN:VEVENT
DTSTART:20211101T140000Z
DTEND:20211101T180000Z
X-MICROSOFT-CDO-ALLDAYEVENT:FALSE
SUMMARY:2021 Show-Me Innovation Pitch Competition
DESCRIPTION:6th Annual Show-Me Innovation Pitch Competition
X-ALT-DESC;FMTTYPE=text/html:6th Annual Show-Me Innovation Pitch Competition&nbsp\;
LOCATION:City of Fulton Council Chambers
UID:e.1836.10806
SEQUENCE:3
DTSTAMP:20260424T211202Z
URL:https://business.callawaychamber.net/events/details/2021-show-me-innovation-pitch-competition-10806
END:VEVENT

END:VCALENDAR
