BEGIN:VCALENDAR
VERSION:2.0
PRODID:-//ChamberMaster//Event Calendar 2.0//EN
METHOD:PUBLISH
X-PUBLISHED-TTL:P3D
REFRESH-INTERVAL:P3D
CALSCALE:GREGORIAN
BEGIN:VEVENT
DTSTART:20210919T160000Z
DTEND:20210919T180000Z
X-MICROSOFT-CDO-ALLDAYEVENT:FALSE
SUMMARY:2021 Small Business Pop Up
DESCRIPTION:These Facebook LIVE events were created to highlight businesses in our community and encourage shopping and participation at those locations.  Justis is on-location at the businesses\, doing Facebook LIVE and giving away swag bags to community members who stop by while she is there.  Businesses who are interested in having Justis attend business for the live is encouraged to email her directly at marketing@callawaychamebr.net Businesses will be asked to complete a form regarding their need/desire for a pop up.
X-ALT-DESC;FMTTYPE=text/html:These Facebook LIVE events were created to highlight businesses in our community and encourage shopping and participation at those locations.&nbsp\; Justis is on-location at the businesses\, doing Facebook LIVE and giving away swag bags to community members who stop by while she is there.&nbsp\; Businesses who are interested in having Justis attend business for the live is encouraged to email her directly at marketing@callawaychamebr.net Businesses will be asked to complete a form regarding their need/desire for a pop up.&nbsp\;
LOCATION:Monthly at businesses in Callaway County
UID:e.1836.10814
SEQUENCE:3
DTSTAMP:20260424T164506Z
URL:https://business.callawaychamber.net/events/details/2021-small-business-pop-up-09-19-2021-10814
END:VEVENT

END:VCALENDAR
