BEGIN:VCALENDAR
VERSION:2.0
PRODID:-//ChamberMaster//Event Calendar 2.0//EN
METHOD:PUBLISH
X-PUBLISHED-TTL:P3D
REFRESH-INTERVAL:P3D
CALSCALE:GREGORIAN
BEGIN:VEVENT
DTSTART;VALUE=DATE:20201031
DTEND;VALUE=DATE:20201101
TRANSP:TRANSPARENT
X-MICROSOFT-CDO-ALLDAYEVENT:TRUE
SUMMARY:21+ Ohana Halloween Party
DESCRIPTION:$10 admission includes 1 beverage. We will also be setting up a food buffet including pizzas and appetizers.\n\nCome dressed in costume. There will be a costume contest for the best/most creative\, the scariest and the best couple costume.\n\nThis event will be 21 and over ONLY.
X-ALT-DESC;FMTTYPE=text/html:<div class="kvgmc6g5 cxmmr5t8 oygrvhab hcukyx3x c1et5uql" style="overflow-wrap: break-word\; margin: 0px\; font-family: &quot\;Segoe UI Historic&quot\;\, &quot\;Segoe UI&quot\;\, Helvetica\, Arial\, sans-serif\; color: rgb(5\, 5\, 5)\; font-size: 15px\;">$10 admission includes 1 beverage. We will also be setting up a food buffet including pizzas and appetizers.</div>\n\n<div class="o9v6fnle cxmmr5t8 oygrvhab hcukyx3x c1et5uql" style="overflow-wrap: break-word\; margin: 0.5em 0px 0px\; font-family: &quot\;Segoe UI Historic&quot\;\, &quot\;Segoe UI&quot\;\, Helvetica\, Arial\, sans-serif\; color: rgb(5\, 5\, 5)\; font-size: 15px\;">Come dressed in costume. There will be a costume contest for the best/most creative\, the scariest and the best couple costume.</div>\n\n<div class="o9v6fnle cxmmr5t8 oygrvhab hcukyx3x c1et5uql" style="overflow-wrap: break-word\; margin: 0.5em 0px 0px\; font-family: &quot\;Segoe UI Historic&quot\;\, &quot\;Segoe UI&quot\;\, Helvetica\, Arial\, sans-serif\; color: rgb(5\, 5\, 5)\; font-size: 15px\;">This event will be 21 and over ONLY.</div>\n
LOCATION:Ohana Pizzeria 61 W 2nd Street\, Fulton
UID:e.1836.10746
SEQUENCE:3
DTSTAMP:20260424T075744Z
URL:https://business.callawaychamber.net/events/details/21-ohana-halloween-party-10746
END:VEVENT

END:VCALENDAR
