BEGIN:VCALENDAR
VERSION:2.0
PRODID:-//ChamberMaster//Event Calendar 2.0//EN
METHOD:PUBLISH
X-PUBLISHED-TTL:P3D
REFRESH-INTERVAL:P3D
CALSCALE:GREGORIAN
BEGIN:VEVENT
DTSTART:20201031T221500Z
DTEND:20201101T021500Z
X-MICROSOFT-CDO-ALLDAYEVENT:FALSE
SUMMARY:2nd Annual Trick Or Treat at Cal-Air Mechanical
DESCRIPTION:Hello Everyone! Fall and Halloween are fast approaching! Last year we wanted to try something new and had a Halloween party at our office\, we wanted something fun\, safe and warm for the kiddos and parents in our community to enjoy. We had a great outcome\, we had lots of people come out and it was alot of fun! We are excited to start planning for our second annual Trick-or-Treat at cal-air! We will have the office decorated again\, photo booth\, hot cocoa\, treats\, popcorn\, and lots of candy! More details to come\, we are hoping to make it bigger and better this year
X-ALT-DESC;FMTTYPE=text/html:<span style="color: rgb(5\, 5\, 5)\; font-family: &quot\;Segoe UI Historic&quot\;\, &quot\;Segoe UI&quot\;\, Helvetica\, Arial\, sans-serif\; font-size: 15px\;">Hello Everyone! Fall and Halloween are fast approaching! Last year we wanted to try something new and had a Halloween party at our office\, we wanted something fun\, safe and warm for the kiddos and parents in our community to enjoy. We had a great outcome\, we had lots of people come out and it was alot of fun! We are excited to start planning for our second annual Trick-or-Treat at cal-air! We will have the office decorated again\, photo booth\, hot cocoa\, treats\, popcorn\, and lots of candy! More details to come\, we are hoping to make it bigger and better this year</span>
LOCATION:Cal-Air Mechanical 1104 W 7th Street\, Fulton
UID:e.1836.10751
SEQUENCE:3
DTSTAMP:20260424T094703Z
URL:https://business.callawaychamber.net/events/details/2nd-annual-trick-or-treat-at-cal-air-mechanical-10751
END:VEVENT

END:VCALENDAR
