BEGIN:VCALENDAR
VERSION:2.0
PRODID:-//ChamberMaster//Event Calendar 2.0//EN
METHOD:PUBLISH
X-PUBLISHED-TTL:P3D
REFRESH-INTERVAL:P3D
CALSCALE:GREGORIAN
BEGIN:VEVENT
DTSTART;VALUE=DATE:20200828
DTEND;VALUE=DATE:20200829
TRANSP:TRANSPARENT
X-MICROSOFT-CDO-ALLDAYEVENT:TRUE
SUMMARY:3rd Annual Teacher Appreciation Breakfast
DESCRIPTION:Join us for the 3rd Annual Teacher Appreciation Breakfast where we celebrate all Callaway County teachers and show them support as they take on this next school year!
X-ALT-DESC;FMTTYPE=text/html:Join us for the 3rd Annual Teacher Appreciation Breakfast where we celebrate all Callaway County teachers and show them support as they take on this next school year!&nbsp\;
LOCATION:Online
UID:e.1836.10709
SEQUENCE:3
DTSTAMP:20260424T114431Z
URL:https://business.callawaychamber.net/events/details/3rd-annual-teacher-appreciation-breakfast-10709
END:VEVENT

END:VCALENDAR
