BEGIN:VCALENDAR
VERSION:2.0
PRODID:-//ChamberMaster//Event Calendar 2.0//EN
METHOD:PUBLISH
X-PUBLISHED-TTL:P3D
REFRESH-INTERVAL:P3D
CALSCALE:GREGORIAN
BEGIN:VEVENT
DTSTART:20201018T050000Z
DTEND:20201026T045500Z
X-MICROSOFT-CDO-ALLDAYEVENT:FALSE
SUMMARY:5K Your Way
DESCRIPTION:YMCA 5K YOUR WAY is an event that can be completed on your own time and in your own place   your neighborhood\, even your backyard or living room. Find your "happy pace". You can participate in the virtual competition by running a 5K (3.1 miles) or have fun being active in your own way with a family run\, walk\, bike\, 45-minute dance party or more. Find what works for you. As long as you can maintain appropriate social distancing\, you can do it!
X-ALT-DESC;FMTTYPE=text/html:YMCA 5K YOUR WAY is an event that can be completed on your own time and in your own place &ndash\; your neighborhood\, even your backyard or living room. Find your &ldquo\;happy pace&rdquo\;. You can participate in the virtual competition by running a 5K (3.1 miles) or have fun being active in your own way with a family run\, walk\, bike\, 45-minute dance party or more. Find what works for you. As long as you can maintain appropriate social distancing\, you can do it!
LOCATION:Anywhere
UID:e.1836.10734
SEQUENCE:3
DTSTAMP:20260424T075405Z
URL:https://business.callawaychamber.net/events/details/5k-your-way-10734
END:VEVENT

END:VCALENDAR
