BEGIN:VCALENDAR
VERSION:2.0
PRODID:-//ChamberMaster//Event Calendar 2.0//EN
METHOD:PUBLISH
X-PUBLISHED-TTL:P3D
REFRESH-INTERVAL:P3D
CALSCALE:GREGORIAN
BEGIN:VEVENT
DTSTART:20200223T000000Z
DTEND:20200223T020000Z
X-MICROSOFT-CDO-ALLDAYEVENT:FALSE
SUMMARY:6th Annual Callaway Cup Mouse Races
DESCRIPTION:Hosted by the Rotary Club of Fulton benefiting the Super Sam Foundation and other local charities
X-ALT-DESC;FMTTYPE=text/html:Hosted by the Rotary Club of Fulton benefiting the Super Sam Foundation and other local charities
LOCATION:Fulton Event Center\, 1915 N. Bluff Street\, Fulton\, MO 65251
UID:e.1836.10658
SEQUENCE:3
DTSTAMP:20260424T212754Z
URL:https://business.callawaychamber.net/events/details/6th-annual-callaway-cup-mouse-races-10658
END:VEVENT

END:VCALENDAR
