BEGIN:VCALENDAR
VERSION:2.0
PRODID:-//ChamberMaster//Event Calendar 2.0//EN
METHOD:PUBLISH
X-PUBLISHED-TTL:P3D
REFRESH-INTERVAL:P3D
CALSCALE:GREGORIAN
BEGIN:VEVENT
DTSTART:20190722T160000Z
DTEND:20190722T170000Z
X-MICROSOFT-CDO-ALLDAYEVENT:FALSE
SUMMARY:Ambassador Luncheon
DESCRIPTION:Ambassador Luncheon
X-ALT-DESC;FMTTYPE=text/html:Ambassador Luncheon
LOCATION:Callaway Chamber of Commerce 510 Market Street Fulton MO 65251
UID:e.1836.10572
SEQUENCE:3
DTSTAMP:20260423T085115Z
URL:https://business.callawaychamber.net/events/details/ambassador-luncheon-10572
END:VEVENT

END:VCALENDAR
