BEGIN:VCALENDAR
VERSION:2.0
PRODID:-//ChamberMaster//Event Calendar 2.0//EN
METHOD:PUBLISH
X-PUBLISHED-TTL:P3D
REFRESH-INTERVAL:P3D
CALSCALE:GREGORIAN
BEGIN:VEVENT
DTSTART:20201113T140000Z
DTEND:20201116T000000Z
X-MICROSOFT-CDO-ALLDAYEVENT:FALSE
SUMMARY:Artichoke Annie's Antique Mall Holiday Open House
DESCRIPTION:Gifts for everyone on your list at Artichoke Annie's Antique Mall! Check them out during our Holiday Open House!
X-ALT-DESC;FMTTYPE=text/html:Gifts for everyone on your list at Artichoke Annie&#39\;s Antique Mall! Check them out during our Holiday Open House!
LOCATION:Located east of Columbia off I-70\, Millersburg Exit #137 (1781 Lindbergh Dr.)
UID:e.1836.10736
SEQUENCE:3
DTSTAMP:20260424T080202Z
URL:https://business.callawaychamber.net/events/details/artichoke-annie-s-antique-mall-holiday-open-house-10736
END:VEVENT

END:VCALENDAR
