BEGIN:VCALENDAR
VERSION:2.0
PRODID:-//ChamberMaster//Event Calendar 2.0//EN
METHOD:PUBLISH
X-PUBLISHED-TTL:P3D
REFRESH-INTERVAL:P3D
CALSCALE:GREGORIAN
BEGIN:VEVENT
DTSTART:20201024T190000Z
DTEND:20201024T230000Z
X-MICROSOFT-CDO-ALLDAYEVENT:FALSE
SUMMARY:Bicentennial Day at Serenity Valley Winery
DESCRIPTION:2-3PM: BOGO Callaway 200 Merchandise\n\n             FREE Playhouse Cafe hot cider purchase of tumbler \n\n3PM: Big Cheese Food Truck\n\n4PM: Live Music from Open Roads
X-ALT-DESC;FMTTYPE=text/html:2-3PM: BOGO Callaway 200 Merchandise<br />\n&nbsp\;&nbsp\;&nbsp\;&nbsp\;&nbsp\;&nbsp\;&nbsp\;&nbsp\;&nbsp\; &nbsp\; &nbsp\;FREE Playhouse Cafe hot cider purchase of tumbler&nbsp\;<br />\n3PM: Big Cheese Food Truck<br />\n4PM: Live Music from Open Roads&nbsp\;&nbsp\;&nbsp\;&nbsp\;&nbsp\;&nbsp\;&nbsp\;&nbsp\;
LOCATION:Serenity Valley Winery
UID:e.1836.10737
SEQUENCE:3
DTSTAMP:20260424T075744Z
URL:https://business.callawaychamber.net/events/details/bicentennial-day-at-serenity-valley-winery-10737
END:VEVENT

END:VCALENDAR
