BEGIN:VCALENDAR
VERSION:2.0
PRODID:-//ChamberMaster//Event Calendar 2.0//EN
METHOD:PUBLISH
X-PUBLISHED-TTL:P3D
REFRESH-INTERVAL:P3D
CALSCALE:GREGORIAN
BEGIN:VEVENT
DTSTART:20180522T230000Z
DTEND:20180523T010000Z
X-MICROSOFT-CDO-ALLDAYEVENT:FALSE
SUMMARY:Building Your Business Web-site Class 2 Part 1
DESCRIPTION:This class is designed to assist you in building your business web-site.  Objectives for this class include: Your About Us page and Contact Us Page
X-ALT-DESC;FMTTYPE=text/html:This class is designed to assist you in building your business web-site.&nbsp\; Objectives for this class include: Your About Us page and Contact Us Page
LOCATION:Callaway Chamber of Commerce 510 Market Street Fulton\, MO
UID:e.1836.10300
SEQUENCE:3
DTSTAMP:20260422T103819Z
URL:https://business.callawaychamber.net/events/details/building-your-business-web-site-class-2-10300
END:VEVENT

END:VCALENDAR
