BEGIN:VCALENDAR
VERSION:2.0
PRODID:-//ChamberMaster//Event Calendar 2.0//EN
METHOD:PUBLISH
X-PUBLISHED-TTL:P3D
REFRESH-INTERVAL:P3D
CALSCALE:GREGORIAN
BEGIN:VEVENT
DTSTART:20180313T220000Z
DTEND:20180314T000000Z
X-MICROSOFT-CDO-ALLDAYEVENT:FALSE
SUMMARY:Business After Hours
DESCRIPTION:The Callaway Chamber of Commerce Business After Hours event offers Chamber members an opportunity to network with other chamber members on a regular basis. This is a simple and effective way to promote your business.
X-ALT-DESC;FMTTYPE=text/html:<span style="color: rgb(51\, 51\, 51)\; font-family: sans-serif\, Arial\, Verdana\, &quot\;Trebuchet MS&quot\;\; font-size: 13px\; background-color: rgb(255\, 255\, 255)\;">The Callaway Chamber of Commerce Business After Hours event offers Chamber members an opportunity to network with other chamber members on a regular basis. This is a simple and effective way to promote your business.</span>
LOCATION:Holiday Inn Express & Suites 3257 County Road 211 Kingdom City MO 65262
UID:e.1836.10257
SEQUENCE:3
DTSTAMP:20260420T061147Z
URL:https://business.callawaychamber.net/events/details/business-after-hours-10257
END:VEVENT

END:VCALENDAR
