BEGIN:VCALENDAR
VERSION:2.0
PRODID:-//ChamberMaster//Event Calendar 2.0//EN
METHOD:PUBLISH
X-PUBLISHED-TTL:P3D
REFRESH-INTERVAL:P3D
CALSCALE:GREGORIAN
BEGIN:VEVENT
DTSTART:20200928T150000Z
DTEND:20200928T160000Z
X-MICROSOFT-CDO-ALLDAYEVENT:FALSE
SUMMARY:Business Continuity and Preparedness: Developing a Plan to Safeguard Your Enterprise
DESCRIPTION:In honor of National Preparedness Month\, Michelle Kidwell\, Emergency Management Director\, Flood Plain Administrator of Callaway County\, will go over how to create your own plan to protect your business\, legal services and local resources to aid in completion and questions to consider when creating the plan.
X-ALT-DESC;FMTTYPE=text/html:<span class="JsGRdQ">In honor of </span><span class="JsGRdQ" style="font-weight: 700\;">National Preparedness Month</span><span class="JsGRdQ">\, Michelle Kidwell\, Emergency Management Director\, Flood Plain Administrator of Callaway County\, will go over how to create your own plan to protect your business\, legal services and local resources to aid in completion and questions to consider when creating the plan.</span>
LOCATION:Zoom
UID:e.1836.10721
SEQUENCE:3
DTSTAMP:20260424T113220Z
URL:https://business.callawaychamber.net/events/details/business-continuity-and-preparedness-developing-a-plan-to-safeguard-your-enterprise-10721
END:VEVENT

END:VCALENDAR
