BEGIN:VCALENDAR
VERSION:2.0
PRODID:-//ChamberMaster//Event Calendar 2.0//EN
METHOD:PUBLISH
X-PUBLISHED-TTL:P3D
REFRESH-INTERVAL:P3D
CALSCALE:GREGORIAN
BEGIN:VEVENT
DTSTART:20221110T170000Z
DTEND:20221110T190000Z
X-MICROSOFT-CDO-ALLDAYEVENT:FALSE
SUMMARY:Callaway Career Day
DESCRIPTION:Guest panelist from local businesses will discuss career opportunities with students from William Woods University and Westminster College
X-ALT-DESC;FMTTYPE=text/html:Guest panelist from local businesses will discuss career opportunities with students from William Woods University and Westminster College&nbsp\;
LOCATION:The Brick District Playhouse 613 Court St Fulton\, MO 65251
UID:e.1836.11075
SEQUENCE:3
DTSTAMP:20260425T160033Z
URL:https://business.callawaychamber.net/events/details/callaway-career-day-11075
END:VEVENT

END:VCALENDAR
