BEGIN:VCALENDAR
VERSION:2.0
PRODID:-//ChamberMaster//Event Calendar 2.0//EN
METHOD:PUBLISH
X-PUBLISHED-TTL:P3D
REFRESH-INTERVAL:P3D
CALSCALE:GREGORIAN
BEGIN:VEVENT
DTSTART:20210105T150000Z
DTEND:20210105T160000Z
X-MICROSOFT-CDO-ALLDAYEVENT:FALSE
SUMMARY:Callaway Community Update
DESCRIPTION:Callaway Community Update
X-ALT-DESC;FMTTYPE=text/html:Callaway Community Update
LOCATION:Zoom
UID:e.1836.10759
SEQUENCE:3
DTSTAMP:20260424T030038Z
URL:https://business.callawaychamber.net/events/details/callaway-community-update-10759
END:VEVENT

END:VCALENDAR
