BEGIN:VCALENDAR
VERSION:2.0
PRODID:-//ChamberMaster//Event Calendar 2.0//EN
METHOD:PUBLISH
X-PUBLISHED-TTL:P3D
REFRESH-INTERVAL:P3D
CALSCALE:GREGORIAN
BEGIN:VEVENT
DTSTART:20210926T220000Z
DTEND:20210927T000000Z
X-MICROSOFT-CDO-ALLDAYEVENT:FALSE
SUMMARY:Callaway County 4-H Kickoff
DESCRIPTION:Callaway County 4-H is having a Kickoff event and invites all families who want to get to know more about 4-H. We will have booths for the community clubs as well as our Shooting Sports program. There will be activities for the kids and tons of information about getting involved with 4-H.
X-ALT-DESC;FMTTYPE=text/html:Callaway County 4-H is having a Kickoff event and invites all families who want to get to know more about 4-H. We will have booths for the community clubs as well as our Shooting Sports program. There will be activities for the kids and tons of information about getting involved with 4-H.
LOCATION:Auxvasse Lions Club Park 600 East Chestnut St. Auxvasse\, MO
UID:e.1836.10915
SEQUENCE:3
DTSTAMP:20260424T164043Z
URL:https://business.callawaychamber.net/events/details/callaway-county-4-h-kickoff-10915
END:VEVENT

END:VCALENDAR
