BEGIN:VCALENDAR
VERSION:2.0
PRODID:-//ChamberMaster//Event Calendar 2.0//EN
METHOD:PUBLISH
X-PUBLISHED-TTL:P3D
REFRESH-INTERVAL:P3D
CALSCALE:GREGORIAN
BEGIN:VEVENT
DTSTART;VALUE=DATE:20180428
DTEND;VALUE=DATE:20180430
TRANSP:TRANSPARENT
X-MICROSOFT-CDO-ALLDAYEVENT:TRUE
SUMMARY:Callaway Trash Bash
DESCRIPTION:Callaway Commission Phone # 573-642 0737. We are asking for volunteers / groups to pick up roadside trash along county roads. We have free trash bags at the Commissioners office and will pick up the following Monday and Tuesday for bags left alongside the road which are called in to the office. So to make us most effective with your tax dollars\, please let us know where they are\, so we are not patrolling the County looking for them. Thanking you in advance. Callaway County Commissioners
X-ALT-DESC;FMTTYPE=text/html:Callaway Commission Phone # 573-642 0737. We are asking for volunteers / groups to pick up roadside trash along county roads. We have free trash bags at the Commissioners office and will pick up the following Monday and Tuesday for bags left alongside the road which are called in to the office. So to make us most effective with your tax dollars\, please let us know where they are\, so we are not patrolling the County looking for them. Thanking you in advance. Callaway County Commissioners
LOCATION:Callaway County maintained roads
UID:e.1836.10310
SEQUENCE:3
DTSTAMP:20260419T220457Z
URL:https://business.callawaychamber.net/events/details/callaway-trash-bash-10310
END:VEVENT

END:VCALENDAR
