BEGIN:VCALENDAR
VERSION:2.0
PRODID:-//ChamberMaster//Event Calendar 2.0//EN
METHOD:PUBLISH
X-PUBLISHED-TTL:P3D
REFRESH-INTERVAL:P3D
CALSCALE:GREGORIAN
BEGIN:VEVENT
DTSTART:20190909T200000Z
DTEND:20190909T220000Z
X-MICROSOFT-CDO-ALLDAYEVENT:FALSE
SUMMARY:Callaway Women's Networking
DESCRIPTION:Women's Networking Group presents...\n\nPatricia Watson-Adams\, MSN\, RN\, FNP-C!\n\nPatricia\, Nurse Practitioner with SSM Medical Group\, will be at the Callaway Chamber of Commerce office on September 9th to speak on Women's Health\, well woman exams\, mammograms\, and much more!
X-ALT-DESC;FMTTYPE=text/html:<p style="margin: 0px 0px 6px\; font-family: Helvetica\, Arial\, sans-serif\; color: rgb(28\, 30\, 33)\; font-size: 14px\; background-color: rgb(255\, 255\, 255)\;">Women&#39\;s Networking Group presents...</p>\n\n<p style="margin: 6px 0px\; font-family: Helvetica\, Arial\, sans-serif\; color: rgb(28\, 30\, 33)\; font-size: 14px\; background-color: rgb(255\, 255\, 255)\;">Patricia Watson-Adams\, MSN\, RN\, FNP-C!</p>\n\n<p style="margin: 6px 0px\; font-family: Helvetica\, Arial\, sans-serif\; color: rgb(28\, 30\, 33)\; font-size: 14px\; background-color: rgb(255\, 255\, 255)\;">Patricia\, Nurse Practitioner with SSM Medical Group\, will be at the Callaway Chamber of Commerce office on September 9th to speak on Women&#39\;s Health\, well woman exams\, mammograms\, and much more!</p>\n
LOCATION:Callaway Chamber of Commerce 510 Market Street Fulton MO 65251
UID:e.1836.10576
SEQUENCE:3
DTSTAMP:20260425T042750Z
URL:https://business.callawaychamber.net/events/details/callaway-women-s-networking-10576
END:VEVENT

END:VCALENDAR
