BEGIN:VCALENDAR
VERSION:2.0
PRODID:-//ChamberMaster//Event Calendar 2.0//EN
METHOD:PUBLISH
X-PUBLISHED-TTL:P3D
REFRESH-INTERVAL:P3D
CALSCALE:GREGORIAN
BEGIN:VEVENT
DTSTART:20210914T200000Z
DTEND:20210914T220000Z
X-MICROSOFT-CDO-ALLDAYEVENT:FALSE
SUMMARY:Callaway Women's Networking: Let's Talk About Menopause
DESCRIPTION:Our Callaway Women's Networking Group is meeting to talk menopause with Callaway Community Hospital's\, Dr. Michael Jones\, MD.  \n\n\n\nThis discussion will touch all walks of life and ages with Dr. Jones answering questions you may have regarding menopause.
X-ALT-DESC;FMTTYPE=text/html:Our Callaway Women&#39\;s Networking Group is meeting to talk menopause with Callaway Community Hospital&#39\;s\, Dr. Michael Jones\, MD.&nbsp\;&nbsp\;<br />\n<br />\nThis discussion will touch all walks of life and ages with Dr. Jones answering questions you may have regarding menopause.
LOCATION:Chamber Office\, 510 Market Street
UID:e.1836.10889
SEQUENCE:3
DTSTAMP:20260424T164237Z
URL:https://business.callawaychamber.net/events/details/callaway-women-s-networking-let-s-talk-about-menopause-10889
END:VEVENT

END:VCALENDAR
