BEGIN:VCALENDAR
VERSION:2.0
PRODID:-//ChamberMaster//Event Calendar 2.0//EN
METHOD:PUBLISH
X-PUBLISHED-TTL:P3D
REFRESH-INTERVAL:P3D
CALSCALE:GREGORIAN
BEGIN:VEVENT
DTSTART:20181017T220000Z
DTEND:20181018T000000Z
X-MICROSOFT-CDO-ALLDAYEVENT:FALSE
SUMMARY:Campfire Party - Women's Networking Members
DESCRIPTION:Campfire Party for Callaway Women's Networking Members and Prospective Members.  Hot Dogs\, Nacho Bar and S'mores will be provided.  \n\nBYOB and bring a chair if desired\, picnic table will be available.
X-ALT-DESC;FMTTYPE=text/html:Campfire Party for Callaway Women&#39\;s Networking Members and Prospective Members.&nbsp\; Hot Dogs\, Nacho Bar and S&#39\;mores will be provided.&nbsp\;&nbsp\;<br />\nBYOB and bring a chair if desired\, picnic table will be available.
LOCATION:Hanson Hills Campground 3643 County Road 221 Kingdom City MO 65231
UID:e.1836.10382
SEQUENCE:3
DTSTAMP:20260425T230650Z
URL:https://business.callawaychamber.net/events/details/campfire-party-women-s-networking-members-10382
END:VEVENT

END:VCALENDAR
