BEGIN:VCALENDAR
VERSION:2.0
PRODID:-//ChamberMaster//Event Calendar 2.0//EN
METHOD:PUBLISH
X-PUBLISHED-TTL:P3D
REFRESH-INTERVAL:P3D
CALSCALE:GREGORIAN
BEGIN:VEVENT
DTSTART:20191001T223000Z
DTEND:20191030T013000Z
X-MICROSOFT-CDO-ALLDAYEVENT:FALSE
SUMMARY:CASA Flex Training
DESCRIPTION:Our next training class dates are as follows: Kick-off: 9/24/19: 5:30   6:30pm 10/1/19: 5:30pm   8:30pm 10/8/19: 5:30pm   8:30pm 10/15/19: 5:30pm   8:30pm Our next training class dates are as follows: Kick-off: 9/24/19: 5:30   6:30pm 10/1/19: 5:30pm   8:30pm 10/8/19: 5:30pm   8:30pm 10/15/19: 5:30pm   8:30pm .10/22/19 5:30pm   8:30pm 10/29/19 5:30pm   8:30pm *Online work completed in between in-person classes. Please apply by Sept. 16th\, at the latest\, to get enrolled in class! Interview will be scheduled after you apply.
X-ALT-DESC;FMTTYPE=text/html:Our next training class dates are as follows: Kick-off: 9/24/19: 5:30 &ndash\; 6:30pm 10/1/19: 5:30pm &ndash\; 8:30pm 10/8/19: 5:30pm &ndash\; 8:30pm 10/15/19: 5:30pm &ndash\; 8:30pm Our next training class dates are as follows: Kick-off: 9/24/19: 5:30 &ndash\; 6:30pm 10/1/19: 5:30pm &ndash\; 8:30pm 10/8/19: 5:30pm &ndash\; 8:30pm 10/15/19: 5:30pm &ndash\; 8:30pm .10/22/19 5:30pm &ndash\; 8:30pm 10/29/19 5:30pm &ndash\; 8:30pm *Online work completed in between in-person classes. Please apply by Sept. 16th\, at the latest\, to get enrolled in class! Interview will be scheduled after you apply.
LOCATION:HOM CASA Office Columbia MO
UID:e.1836.10595
SEQUENCE:3
DTSTAMP:20260425T025300Z
URL:https://business.callawaychamber.net/events/details/casa-flex-training-10595
END:VEVENT

END:VCALENDAR
