BEGIN:VCALENDAR
VERSION:2.0
PRODID:-//ChamberMaster//Event Calendar 2.0//EN
METHOD:PUBLISH
X-PUBLISHED-TTL:P3D
REFRESH-INTERVAL:P3D
CALSCALE:GREGORIAN
BEGIN:VEVENT
DTSTART:20200910T173000Z
DTEND:20200910T183000Z
X-MICROSOFT-CDO-ALLDAYEVENT:FALSE
SUMMARY:Chamber Week: Ice Cream Social
DESCRIPTION:To show our appreciation to YOU\, all\n\ncurrent Callaway Chamber of Commerce\n\nmembers are invited to stop by and grab\n\nGiofre's honey ice cream on the Chamber\n\nfor Chamber of Commerce Week!\n\n\n\nThe first 80 chamber members to swing by will get free ice cream on us!  Ice cream is in prepackaged containers.\n\n\n\nCurbside is available. Just park in front of Chamber building to be served. o sh\n\n\n\now our appreciation to YOU\, all current Callaway Chamber of Commerce members are invited to stop by and grab Giofre's honey ice cream on the Chamber for Chamber of Commerce Week!
X-ALT-DESC;FMTTYPE=text/html:To show our appreciation to YOU\, all<br />\ncurrent Callaway Chamber of Commerce<br />\nmembers are invited to stop by and grab<br />\nGiofre&#39\;s honey ice cream on the Chamber<br />\nfor Chamber of Commerce Week!<br />\n<br />\nThe first 80 chamber members to swing by will get free ice cream on us!&nbsp\; Ice cream is in prepackaged containers.<br />\n<br />\nCurbside is available. Just park in front of Chamber building to be served.&nbsp\;<span class="JsGRdQ" style="color: rgb(255\, 255\, 255)\;">o sh<br />\n<br />\now our appreciation to YOU\, all current Callaway Chamber of Commerce members are invited to stop by and grab Giofre&#39\;s honey ice cream on the Chamber for Chamber of Commerce Week!</span>
LOCATION:Outside Chamber Office
UID:e.1836.10714
SEQUENCE:3
DTSTAMP:20260424T094300Z
URL:https://business.callawaychamber.net/events/details/chamber-week-ice-cream-social-10714
END:VEVENT

END:VCALENDAR
