BEGIN:VCALENDAR
VERSION:2.0
PRODID:-//ChamberMaster//Event Calendar 2.0//EN
METHOD:PUBLISH
X-PUBLISHED-TTL:P3D
REFRESH-INTERVAL:P3D
CALSCALE:GREGORIAN
BEGIN:VEVENT
DTSTART:20200909T150000Z
DTEND:20200909T160000Z
X-MICROSOFT-CDO-ALLDAYEVENT:FALSE
SUMMARY:Chamber Week: Proclamation with Mayor Cannell & Utilizing Your Membership
DESCRIPTION:City of Fulton Mayor Lowe Cannell will announce a proclamation for the chamber and Chamber of Commerce Week. This will be conducted by Zoom at 10AM. Following Mayor Cannell's words\, we will have a quick conversation on way to best utilize your membership. All attendees will be entered to win a FREE 1-month banner ad on our new website. Please email Justis to RSVP.
X-ALT-DESC;FMTTYPE=text/html:<span style="color: rgb(5\, 5\, 5)\; font-family: &quot\;Segoe UI Historic&quot\;\, &quot\;Segoe UI&quot\;\, Helvetica\, Arial\, sans-serif\; font-size: 15px\;">City of Fulton Mayor Lowe Cannell will announce a proclamation for the chamber and Chamber of Commerce Week. This will be conducted by Zoom at 10AM. Following Mayor Cannell&#39\;s words\, we will have a quick conversation on way to best utilize your membership. All attendees will be entered to win a FREE 1-month banner ad on our new website. Please email Justis to RSVP.</span>
LOCATION:Zoom Call
UID:e.1836.10713
SEQUENCE:3
DTSTAMP:20260424T094302Z
URL:https://business.callawaychamber.net/events/details/chamber-week-proclamation-with-mayor-cannell-utilizing-your-membership-10713
END:VEVENT

END:VCALENDAR
