BEGIN:VCALENDAR
VERSION:2.0
PRODID:-//ChamberMaster//Event Calendar 2.0//EN
METHOD:PUBLISH
X-PUBLISHED-TTL:P3D
REFRESH-INTERVAL:P3D
CALSCALE:GREGORIAN
BEGIN:VEVENT
DTSTART:20170926T133000Z
DTEND:20170926T143000Z
X-MICROSOFT-CDO-ALLDAYEVENT:FALSE
SUMMARY:Coffee and CREAM
DESCRIPTION:Coffee and CREAM (Callaway Reaching Entrepreneurs and Managers) monthly business workshop series.  For more information contact Jaime at (573) 777-5235 or director@MoWBC.org or register at everyeventgives.com/events/coffee
X-ALT-DESC;FMTTYPE=text/html:Coffee and CREAM (Callaway Reaching Entrepreneurs and Managers) monthly business workshop series. &nbsp\;For more information contact Jaime at (573) 777-5235 or director@MoWBC.org or register at everyeventgives.com/events/coffee
LOCATION:Callaway Chamber of Commerce 510 Market St. Fulton MO 65251
UID:e.1836.10163
SEQUENCE:3
DTSTAMP:20260423T025735Z
URL:https://business.callawaychamber.net/events/details/coffee-and-cream-10163
END:VEVENT

END:VCALENDAR
