BEGIN:VCALENDAR
VERSION:2.0
PRODID:-//ChamberMaster//Event Calendar 2.0//EN
METHOD:PUBLISH
X-PUBLISHED-TTL:P3D
REFRESH-INTERVAL:P3D
CALSCALE:GREGORIAN
BEGIN:VEVENT
DTSTART:20180227T140000Z
DTEND:20180227T160000Z
X-MICROSOFT-CDO-ALLDAYEVENT:FALSE
SUMMARY:Coffee and CREAM
DESCRIPTION:Coffee and CREAM February Workshop\n\nSetting up your business in Quickbooks Online.\n\nPresenter:  Lara Peiper\, owner of Bloom Bookkeeping
X-ALT-DESC;FMTTYPE=text/html:Coffee and CREAM February Workshop<br />\nSetting up your business in Quickbooks Online.<br />\nPresenter:&nbsp\; Lara Peiper\, owner of Bloom Bookkeeping
LOCATION:Callaway Chamber of Commerce 510 Market Street Fulton MO 65251
UID:e.1836.10274
SEQUENCE:3
DTSTAMP:20260420T183121Z
URL:https://business.callawaychamber.net/events/details/coffee-and-cream-10274
END:VEVENT

END:VCALENDAR
