BEGIN:VCALENDAR
VERSION:2.0
PRODID:-//ChamberMaster//Event Calendar 2.0//EN
METHOD:PUBLISH
X-PUBLISHED-TTL:P3D
REFRESH-INTERVAL:P3D
CALSCALE:GREGORIAN
BEGIN:VEVENT
DTSTART:20180424T130000Z
DTEND:20180424T150000Z
X-MICROSOFT-CDO-ALLDAYEVENT:FALSE
SUMMARY:Coffee and CREAM
DESCRIPTION:Coffee and CREAM\n\nFinancing Your Small Business with presenter\, Lisa Zimmerman of Justine PETERSEN.  Learn about different funding sources needed for your business and what you need to qualify.
X-ALT-DESC;FMTTYPE=text/html:Coffee and CREAM<br />\nFinancing Your Small Business with presenter\, Lisa Zimmerman of Justine PETERSEN.&nbsp\; Learn about different funding sources needed for your business and what you need to qualify.
LOCATION:Callaway Chamber of Commerce 510 Market Street Fulton MO 65251
UID:e.1836.10309
SEQUENCE:3
DTSTAMP:20260423T030324Z
URL:https://business.callawaychamber.net/events/details/coffee-and-cream-10309
END:VEVENT

END:VCALENDAR
